BEGIN:VCALENDAR
VERSION:2.0
PRODID:-//Burnaby Hospital MSA - ECPv5.9.0//NONSGML v1.0//EN
CALSCALE:GREGORIAN
METHOD:PUBLISH
X-WR-CALNAME:Burnaby Hospital MSA
X-ORIGINAL-URL:https://bhmsa.ca
X-WR-CALDESC:Events for Burnaby Hospital MSA
BEGIN:VTIMEZONE
TZID:America/Vancouver
BEGIN:DAYLIGHT
TZOFFSETFROM:-0800
TZOFFSETTO:-0700
TZNAME:PDT
DTSTART:20250309T100000
END:DAYLIGHT
BEGIN:STANDARD
TZOFFSETFROM:-0700
TZOFFSETTO:-0800
TZNAME:PST
DTSTART:20251102T090000
END:STANDARD
END:VTIMEZONE
BEGIN:VEVENT
DTSTART;TZID=America/Vancouver:20251114T173000
DTEND;TZID=America/Vancouver:20251114T220000
DTSTAMP:20260419T063334
CREATED:20250917T005930Z
LAST-MODIFIED:20250921T221037Z
UID:11236-1763141400-1763157600@bhmsa.ca
SUMMARY:BH MSA Year End Celebration 2025
DESCRIPTION:[vc_row][vc_column][vc_single_image image=”11240″ img_size=”full” alignment=”center” onclick=”custom_link” img_link_target=”_blank” link=”https://www.surveymonkey.com/r/FNS2FNG”][/vc_column][/vc_row][vc_row][vc_column][vc_column_text]Save the Date: Join us for our BH MSA Year End Celebration 2025! \n\nDate: Nov 14\, 2025\nLocation: Riverway Restaurant\nRSVP Required:     Click Here\nE-Transfer: $20 to Donna (donnasue.md@gmail.com)\n\n[/vc_column_text][/vc_column][/vc_row]
URL:https://bhmsa.ca/event/year-end-celebration-2025/
LOCATION:Riverway Restaurant\, 9001 Bill Fox Way\, Burnaby\, BC\, V5J 3H6\, Canada
END:VEVENT
END:VCALENDAR