BEGIN:VCALENDAR
VERSION:2.0
PRODID:-//Burnaby Hospital MSA - ECPv5.9.0//NONSGML v1.0//EN
CALSCALE:GREGORIAN
METHOD:PUBLISH
X-WR-CALNAME:Burnaby Hospital MSA
X-ORIGINAL-URL:https://bhmsa.ca
X-WR-CALDESC:Events for Burnaby Hospital MSA
BEGIN:VTIMEZONE
TZID:America/Vancouver
BEGIN:DAYLIGHT
TZOFFSETFROM:-0800
TZOFFSETTO:-0700
TZNAME:PDT
DTSTART:20200308T100000
END:DAYLIGHT
BEGIN:STANDARD
TZOFFSETFROM:-0700
TZOFFSETTO:-0800
TZNAME:PST
DTSTART:20201101T090000
END:STANDARD
END:VTIMEZONE
BEGIN:VEVENT
DTSTART;TZID=America/Vancouver:20200429T160000
DTEND;TZID=America/Vancouver:20200429T170000
DTSTAMP:20260419T061306
CREATED:20200421T172159Z
LAST-MODIFIED:20200421T172159Z
UID:8292-1588176000-1588179600@bhmsa.ca
SUMMARY:Online Journal Club - COVID Session #4
DESCRIPTION:Join us in learning about COVID together! \nDetails
URL:https://bhmsa.ca/event/online-journal-club-covid-session-4/
END:VEVENT
END:VCALENDAR